BEGIN:VCALENDAR
VERSION:2.0
PRODID:-//Turkeyville - ECPv6.15.20//NONSGML v1.0//EN
CALSCALE:GREGORIAN
METHOD:PUBLISH
X-WR-CALNAME:Turkeyville
X-ORIGINAL-URL:https://turkeyville.com
X-WR-CALDESC:Events for Turkeyville
REFRESH-INTERVAL;VALUE=DURATION:PT1H
X-Robots-Tag:noindex
X-PUBLISHED-TTL:PT1H
BEGIN:VTIMEZONE
TZID:America/Detroit
BEGIN:DAYLIGHT
TZOFFSETFROM:-0500
TZOFFSETTO:-0400
TZNAME:EDT
DTSTART:20250309T070000
END:DAYLIGHT
BEGIN:STANDARD
TZOFFSETFROM:-0400
TZOFFSETTO:-0500
TZNAME:EST
DTSTART:20251102T060000
END:STANDARD
BEGIN:DAYLIGHT
TZOFFSETFROM:-0500
TZOFFSETTO:-0400
TZNAME:EDT
DTSTART:20260308T070000
END:DAYLIGHT
BEGIN:STANDARD
TZOFFSETFROM:-0400
TZOFFSETTO:-0500
TZNAME:EST
DTSTART:20261101T060000
END:STANDARD
BEGIN:DAYLIGHT
TZOFFSETFROM:-0500
TZOFFSETTO:-0400
TZNAME:EDT
DTSTART:20270314T070000
END:DAYLIGHT
BEGIN:STANDARD
TZOFFSETFROM:-0400
TZOFFSETTO:-0500
TZNAME:EST
DTSTART:20271107T060000
END:STANDARD
END:VTIMEZONE
BEGIN:VEVENT
DTSTART;VALUE=DATE:20261126
DTEND;VALUE=DATE:20261127
DTSTAMP:20260424T231505
CREATED:20251213T230306Z
LAST-MODIFIED:20260120T200459Z
UID:10000079-1795651200-1795737599@turkeyville.com
SUMMARY:Closed for Thanksgiving
DESCRIPTION:We are closed on Thanksgiving Day and will reopen the following day a normal business day. 
URL:https://turkeyville.com/event/closed-for-thanksgiving/
CATEGORIES:Calendar of Events
ATTACH;FMTTYPE=image/jpeg:https://turkeyville.com/wp-content/uploads/2025/12/printable-thanksgiving-closed-sign_135441.jpg
END:VEVENT
END:VCALENDAR