BEGIN:VCALENDAR
VERSION:2.0
PRODID:-//Turkeyville - ECPv6.15.20//NONSGML v1.0//EN
CALSCALE:GREGORIAN
METHOD:PUBLISH
X-WR-CALNAME:Turkeyville
X-ORIGINAL-URL:https://turkeyville.com
X-WR-CALDESC:Events for Turkeyville
REFRESH-INTERVAL;VALUE=DURATION:PT1H
X-Robots-Tag:noindex
X-PUBLISHED-TTL:PT1H
BEGIN:VTIMEZONE
TZID:America/Detroit
BEGIN:DAYLIGHT
TZOFFSETFROM:-0500
TZOFFSETTO:-0400
TZNAME:EDT
DTSTART:20250309T070000
END:DAYLIGHT
BEGIN:STANDARD
TZOFFSETFROM:-0400
TZOFFSETTO:-0500
TZNAME:EST
DTSTART:20251102T060000
END:STANDARD
BEGIN:DAYLIGHT
TZOFFSETFROM:-0500
TZOFFSETTO:-0400
TZNAME:EDT
DTSTART:20260308T070000
END:DAYLIGHT
BEGIN:STANDARD
TZOFFSETFROM:-0400
TZOFFSETTO:-0500
TZNAME:EST
DTSTART:20261101T060000
END:STANDARD
BEGIN:DAYLIGHT
TZOFFSETFROM:-0500
TZOFFSETTO:-0400
TZNAME:EDT
DTSTART:20270314T070000
END:DAYLIGHT
BEGIN:STANDARD
TZOFFSETFROM:-0400
TZOFFSETTO:-0500
TZNAME:EST
DTSTART:20271107T060000
END:STANDARD
END:VTIMEZONE
BEGIN:VEVENT
DTSTART;VALUE=DATE:20261003
DTEND;VALUE=DATE:20261026
DTSTAMP:20260424T215129
CREATED:20251213T212534Z
LAST-MODIFIED:20260120T200500Z
UID:10000073-1790985600-1792972799@turkeyville.com
SUMMARY:Turkeyville's Haunted Adventure
DESCRIPTION:Enjoy the wonders of our haunted adventure on our creepy hay ride\, haunted barn\, corn maze and spooky train ride(our train takes donations also). We will also have homemade donuts\, apple cider\, pumpkins\, mums and more fall items! \nWear your favorite costume we will be too! \nSaturday 11am – 6pm *Wristbands sold until 5pm* \nSunday 11am – 5pm *Wristbands sold until 3pm* \n$15 per person wristband only  \n$17 wristband with a pumpkin   \n 
URL:https://turkeyville.com/event/turkeyvilles-haunted-adventure-2/
CATEGORIES:Calendar of Events
ATTACH;FMTTYPE=image/jpeg:https://turkeyville.com/wp-content/uploads/2025/12/45234049635ac24c16e35d696e99af52.jpg
END:VEVENT
END:VCALENDAR