BEGIN:VCALENDAR
VERSION:2.0
PRODID:-//Turkeyville - ECPv6.15.20//NONSGML v1.0//EN
CALSCALE:GREGORIAN
METHOD:PUBLISH
X-WR-CALNAME:Turkeyville
X-ORIGINAL-URL:https://turkeyville.com
X-WR-CALDESC:Events for Turkeyville
REFRESH-INTERVAL;VALUE=DURATION:PT1H
X-Robots-Tag:noindex
X-PUBLISHED-TTL:PT1H
BEGIN:VTIMEZONE
TZID:America/Detroit
BEGIN:DAYLIGHT
TZOFFSETFROM:-0500
TZOFFSETTO:-0400
TZNAME:EDT
DTSTART:20250309T070000
END:DAYLIGHT
BEGIN:STANDARD
TZOFFSETFROM:-0400
TZOFFSETTO:-0500
TZNAME:EST
DTSTART:20251102T060000
END:STANDARD
BEGIN:DAYLIGHT
TZOFFSETFROM:-0500
TZOFFSETTO:-0400
TZNAME:EDT
DTSTART:20260308T070000
END:DAYLIGHT
BEGIN:STANDARD
TZOFFSETFROM:-0400
TZOFFSETTO:-0500
TZNAME:EST
DTSTART:20261101T060000
END:STANDARD
BEGIN:DAYLIGHT
TZOFFSETFROM:-0500
TZOFFSETTO:-0400
TZNAME:EDT
DTSTART:20270314T070000
END:DAYLIGHT
BEGIN:STANDARD
TZOFFSETFROM:-0400
TZOFFSETTO:-0500
TZNAME:EST
DTSTART:20271107T060000
END:STANDARD
END:VTIMEZONE
BEGIN:VEVENT
DTSTART;TZID=America/Detroit:20261106T173000
DTEND;TZID=America/Detroit:20261106T193000
DTSTAMP:20260424T213927
CREATED:20251213T214614Z
LAST-MODIFIED:20260120T200523Z
UID:10000077-1793986200-1793993400@turkeyville.com
SUMMARY:Wine & Canvas class
DESCRIPTION:Come enjoy a fun night of wine\, creativity\, and painting your own canvas masterpiece.
URL:https://turkeyville.com/event/wine-canvas-class-2/
CATEGORIES:Calendar of Events
ATTACH;FMTTYPE=image/jpeg:https://turkeyville.com/wp-content/uploads/2025/12/594061607_1184057003821457_7371315769981757835_n-1.jpg
END:VEVENT
BEGIN:VEVENT
DTSTART;VALUE=DATE:20261120
DTEND;VALUE=DATE:20261126
DTSTAMP:20260424T213927
CREATED:20251213T215302Z
LAST-MODIFIED:20260120T200500Z
UID:10000078-1795132800-1795651199@turkeyville.com
SUMMARY:Fresh Turkeys For Sale
DESCRIPTION:Fresh Turkey’s go on sale in our Gift Shop.  First Come\, First Served. \n10 lb to 40 lb. Available. \nWhile Supplies Last
URL:https://turkeyville.com/event/fresh-turkeys-for-sale/
CATEGORIES:Calendar of Events
ATTACH;FMTTYPE=image/jpeg:https://turkeyville.com/wp-content/uploads/2025/12/turkey.jpeg
END:VEVENT
BEGIN:VEVENT
DTSTART;VALUE=DATE:20261126
DTEND;VALUE=DATE:20261127
DTSTAMP:20260424T213927
CREATED:20251213T230306Z
LAST-MODIFIED:20260120T200459Z
UID:10000079-1795651200-1795737599@turkeyville.com
SUMMARY:Closed for Thanksgiving
DESCRIPTION:We are closed on Thanksgiving Day and will reopen the following day a normal business day. 
URL:https://turkeyville.com/event/closed-for-thanksgiving/
CATEGORIES:Calendar of Events
ATTACH;FMTTYPE=image/jpeg:https://turkeyville.com/wp-content/uploads/2025/12/printable-thanksgiving-closed-sign_135441.jpg
END:VEVENT
END:VCALENDAR